BEGIN:VCALENDAR
VERSION:2.0
PRODID:-//Virginia Career Works Shenandoah Valley Region - ECPv6.15.20//NONSGML v1.0//EN
CALSCALE:GREGORIAN
METHOD:PUBLISH
X-WR-CALNAME:Virginia Career Works Shenandoah Valley Region
X-ORIGINAL-URL:https://vcwvalley.com
X-WR-CALDESC:Events for Virginia Career Works Shenandoah Valley Region
REFRESH-INTERVAL;VALUE=DURATION:PT1H
X-Robots-Tag:noindex
X-PUBLISHED-TTL:PT1H
BEGIN:VTIMEZONE
TZID:UTC
BEGIN:STANDARD
TZOFFSETFROM:+0000
TZOFFSETTO:+0000
TZNAME:UTC
DTSTART:20170101T000000
END:STANDARD
END:VTIMEZONE
BEGIN:VTIMEZONE
TZID:America/New_York
BEGIN:DAYLIGHT
TZOFFSETFROM:-0500
TZOFFSETTO:-0400
TZNAME:EDT
DTSTART:20180311T070000
END:DAYLIGHT
BEGIN:STANDARD
TZOFFSETFROM:-0400
TZOFFSETTO:-0500
TZNAME:EST
DTSTART:20181104T060000
END:STANDARD
BEGIN:DAYLIGHT
TZOFFSETFROM:-0500
TZOFFSETTO:-0400
TZNAME:EDT
DTSTART:20190310T070000
END:DAYLIGHT
BEGIN:STANDARD
TZOFFSETFROM:-0400
TZOFFSETTO:-0500
TZNAME:EST
DTSTART:20191103T060000
END:STANDARD
BEGIN:DAYLIGHT
TZOFFSETFROM:-0500
TZOFFSETTO:-0400
TZNAME:EDT
DTSTART:20200308T070000
END:DAYLIGHT
BEGIN:STANDARD
TZOFFSETFROM:-0400
TZOFFSETTO:-0500
TZNAME:EST
DTSTART:20201101T060000
END:STANDARD
END:VTIMEZONE
BEGIN:VEVENT
DTSTART;TZID=UTC:20190601T093000
DTEND;TZID=UTC:20190601T120000
DTSTAMP:20260421T054643
CREATED:20190331T181644Z
LAST-MODIFIED:20190529T204437Z
UID:16488-1559381400-1559390400@vcwvalley.com
SUMMARY:Advanced Career Search Level 1
DESCRIPTION:Learn advanced job-search skills in this Saturday workshop designed for the accomplished employee looking to take their career to the next level. Session includes: \n\nBehavioral-based Interviewing (The STAR Method)\nUsing LinkedIn for Job Search\nHow to Market your Resume
URL:https://vcwvalley.com/event/optimize-your-expertise/
LOCATION:VA
CATEGORIES:Job Search Skills,Social Media/Networking,Winchester Center
ATTACH;FMTTYPE=image/jpeg:https://vcwvalley.com/wp-content/uploads/Saturday-Workshop.jpg
END:VEVENT
BEGIN:VEVENT
DTSTART;TZID=America/New_York:20190516T090000
DTEND;TZID=America/New_York:20190516T103000
DTSTAMP:20260421T054643
CREATED:20190107T202614Z
LAST-MODIFIED:20190425T231840Z
UID:16149-1557997200-1558002600@vcwvalley.com
SUMMARY:DIY...Techniques to Polish up your Online Job Search!
DESCRIPTION:This workshop covers the electronic job search\, reasons to use the Internet\, onine resumes\, links to jobs\, job search engines\, networking sites\, job boards\, and the Virginia Workforce Connection.  Geared towards individuals with functional knowledge of Internet naviation. \n  \n 
URL:https://vcwvalley.com/event/diy-techniques-to-polish-up-your-online-job-search/
LOCATION:Winchester Center\, 419 North Cameron Street\, Winchester\, VA\, 22601\, United States
CATEGORIES:Job Search Skills,Winchester Center
ATTACH;FMTTYPE=image/jpeg:https://vcwvalley.com/wp-content/uploads/rapid_response_image-600x400.jpg
END:VEVENT
BEGIN:VEVENT
DTSTART;TZID=America/New_York:20190318T140000
DTEND;TZID=America/New_York:20190318T160000
DTSTAMP:20260421T054643
CREATED:20181212T211456Z
LAST-MODIFIED:20190301T173712Z
UID:15909-1552917600-1552924800@vcwvalley.com
SUMMARY:Beginner Resume Writing
DESCRIPTION:Haven’t written a resume in a while? Come learn resume best practices and how to create your own. Participants will have lecture and lab work time. You will walk away with a completed resume on resume paper as well as digitally on a flash drive!
URL:https://vcwvalley.com/event/beginner-resume-writing/
LOCATION:Winchester Center\, 419 North Cameron Street\, Winchester\, VA\, 22601\, United States
CATEGORIES:Resumes,Winchester Center
ATTACH;FMTTYPE=image/jpeg:https://vcwvalley.com/wp-content/uploads/12-ways-to-optimize-your-resume-for-applicant-tracking-systems-48b2d207b9.jpg
END:VEVENT
BEGIN:VEVENT
DTSTART;TZID=UTC:20181231T093000
DTEND;TZID=UTC:20181231T120000
DTSTAMP:20260421T054643
CREATED:20181212T214559Z
LAST-MODIFIED:20181212T214559Z
UID:15937-1546248600-1546257600@vcwvalley.com
SUMMARY:GED Classes
DESCRIPTION:Preparation for taking the GED.
URL:https://vcwvalley.com/event/ged-classes-8/
LOCATION:Winchester Center\, 419 North Cameron Street\, Winchester\, VA\, 22601\, United States
CATEGORIES:Winchester Center
END:VEVENT
BEGIN:VEVENT
DTSTART;TZID=UTC:20181228T170000
DTEND;TZID=UTC:20181228T193000
DTSTAMP:20260421T054643
CREATED:20181212T214713Z
LAST-MODIFIED:20181212T214713Z
UID:15941-1546016400-1546025400@vcwvalley.com
SUMMARY:GED Classes
DESCRIPTION:Preparation for taking the GED.
URL:https://vcwvalley.com/event/ged-classes-10/
LOCATION:Winchester Center\, 419 North Cameron Street\, Winchester\, VA\, 22601\, United States
CATEGORIES:Winchester Center
END:VEVENT
BEGIN:VEVENT
DTSTART;TZID=UTC:20181228T093000
DTEND;TZID=UTC:20181228T120000
DTSTAMP:20260421T054643
CREATED:20181212T214630Z
LAST-MODIFIED:20181212T214630Z
UID:15939-1545989400-1545998400@vcwvalley.com
SUMMARY:GED Classes
DESCRIPTION:Preparation for taking the GED.
URL:https://vcwvalley.com/event/ged-classes-9/
LOCATION:Winchester Center\, 419 North Cameron Street\, Winchester\, VA\, 22601\, United States
CATEGORIES:Winchester Center
END:VEVENT
BEGIN:VEVENT
DTSTART;TZID=UTC:20181227T090000
DTEND;TZID=UTC:20181227T103000
DTSTAMP:20260421T054643
CREATED:20181212T214811Z
LAST-MODIFIED:20181212T214811Z
UID:15943-1545901200-1545906600@vcwvalley.com
SUMMARY:HOW TO GET AND KEEP THE JOB YOU WANT!
DESCRIPTION:How to Get and Keep the Job you Want! – This workshop is for those looking for success strategies to ensure ststainable\, long term employment. Review strategies such as professionalism\, soft skills\, communication\, time management and more!
URL:https://vcwvalley.com/event/how-to-get-and-keep-the-job-you-want/
LOCATION:Winchester Center\, 419 North Cameron Street\, Winchester\, VA\, 22601\, United States
CATEGORIES:Winchester Center
END:VEVENT
BEGIN:VEVENT
DTSTART;TZID=UTC:20181226T093000
DTEND;TZID=UTC:20181226T120000
DTSTAMP:20260421T054643
CREATED:20181212T214523Z
LAST-MODIFIED:20181212T214523Z
UID:15935-1545816600-1545825600@vcwvalley.com
SUMMARY:GED Classes
DESCRIPTION:Preparation for taking the GED.
URL:https://vcwvalley.com/event/ged-classes-7/
LOCATION:Winchester Center\, 419 North Cameron Street\, Winchester\, VA\, 22601\, United States
CATEGORIES:Winchester Center
END:VEVENT
BEGIN:VEVENT
DTSTART;TZID=UTC:20181224T093000
DTEND;TZID=UTC:20181224T120000
DTSTAMP:20260421T054643
CREATED:20181212T214431Z
LAST-MODIFIED:20181212T214431Z
UID:15933-1545643800-1545652800@vcwvalley.com
SUMMARY:GED Classes
DESCRIPTION:Preparation for taking the GED.
URL:https://vcwvalley.com/event/ged-classes-6/
LOCATION:Winchester Center\, 419 North Cameron Street\, Winchester\, VA\, 22601\, United States
CATEGORIES:Winchester Center
END:VEVENT
BEGIN:VEVENT
DTSTART;TZID=UTC:20181221T170000
DTEND;TZID=UTC:20181221T193000
DTSTAMP:20260421T054643
CREATED:20181212T214339Z
LAST-MODIFIED:20181212T214339Z
UID:15931-1545411600-1545420600@vcwvalley.com
SUMMARY:GED Classes
DESCRIPTION:Preparation for taking the GED.
URL:https://vcwvalley.com/event/ged-classes-5/
LOCATION:Winchester Center\, 419 North Cameron Street\, Winchester\, VA\, 22601\, United States
CATEGORIES:Winchester Center
END:VEVENT
BEGIN:VEVENT
DTSTART;TZID=UTC:20181221T093000
DTEND;TZID=UTC:20181221T120000
DTSTAMP:20260421T054643
CREATED:20181212T213947Z
LAST-MODIFIED:20181212T213947Z
UID:15925-1545384600-1545393600@vcwvalley.com
SUMMARY:GED Classes
DESCRIPTION:Preparation for taking the GED.
URL:https://vcwvalley.com/event/ged-classes-4/
LOCATION:Winchester Center\, 419 North Cameron Street\, Winchester\, VA\, 22601\, United States
CATEGORIES:Winchester Center
END:VEVENT
BEGIN:VEVENT
DTSTART;TZID=UTC:20181220T090000
DTEND;TZID=UTC:20181220T103000
DTSTAMP:20260421T054643
CREATED:20181212T213233Z
LAST-MODIFIED:20181212T213233Z
UID:15923-1545296400-1545301800@vcwvalley.com
SUMMARY:DIY…TECHNIQUES TO POLISH UP YOUR ONLINE JOB SEARCH!
DESCRIPTION:This workshop covers the electronic job search\, reasons to use the Internet\, online resumes\, links to jobs\, job search engines\, networking sites\, job boards\, and the Virginia Workforce Connection. Geared towards individuals with functional knowledge of Internet naviation.
URL:https://vcwvalley.com/event/diytechniques-to-polish-up-your-online-job-search/
LOCATION:Winchester Center\, 419 North Cameron Street\, Winchester\, VA\, 22601\, United States
CATEGORIES:Job Search Skills,Winchester Center
END:VEVENT
BEGIN:VEVENT
DTSTART;TZID=UTC:20181218T170000
DTEND;TZID=UTC:20181218T193000
DTSTAMP:20260421T054643
CREATED:20181212T211633Z
LAST-MODIFIED:20181212T211633Z
UID:15911-1545152400-1545161400@vcwvalley.com
SUMMARY:GED Classes
DESCRIPTION:Preparation for taking the GED.
URL:https://vcwvalley.com/event/ged-classes-2/
LOCATION:Winchester Center\, 419 North Cameron Street\, Winchester\, VA\, 22601\, United States
CATEGORIES:Winchester Center
END:VEVENT
END:VCALENDAR